BEGIN:VCALENDAR
VERSION:2.0
PRODID:icalendar-ruby
CALSCALE:GREGORIAN
BEGIN:VTIMEZONE
TZID:America/Los_Angeles
BEGIN:DAYLIGHT
DTSTART:20260308T030000
TZOFFSETFROM:-0800
TZOFFSETTO:-0700
RRULE:FREQ=YEARLY;BYDAY=2SU;BYMONTH=3
TZNAME:PDT
END:DAYLIGHT
BEGIN:STANDARD
DTSTART:20261101T010000
TZOFFSETFROM:-0700
TZOFFSETTO:-0800
RRULE:FREQ=YEARLY;BYDAY=1SU;BYMONTH=11
TZNAME:PST
END:STANDARD
END:VTIMEZONE
BEGIN:VEVENT
DTSTAMP:20260422T163552Z
UID:https://fostercity.helpfulvillage.com/events/1766
DTSTART;TZID=America/Los_Angeles:20260518T120000
DTEND;TZID=America/Los_Angeles:20260518T133000
CLASS:PRIVATE
CREATED:20260420T115249
DESCRIPTION:
LAST-MODIFIED:20260420T115340
LOCATION:BJ's Restaurant and Brewhouse\, 2206 Bridgepointe Parkway\, San Ma
 teo\, CA 94404
SUMMARY:Village event: Lunch with Foster City Village at BJ's
URL;VALUE=URI:https://fostercity.helpfulvillage.com/events/1766
END:VEVENT
END:VCALENDAR
